View In:
ArcGIS JavaScript
ArcGIS Online Map Viewer
ArcGIS Earth
Service Description: PublicData/Citrus_ELEV_2019_Pro
Name: PublicData/Citrus_ELEV_2019_Pro
Description:
Single Fused Map Cache: false
Extent:
XMin: 404999.99999999977
YMin: 1574999.9999999977
XMax: 594999.9999999998
YMax: 1714999.9999999977
Spatial Reference: COMPOUNDCRS["",PROJCRS["NAD_1983_2011_StatePlane_Florida_West_FIPS_0902_Ft_US",BASEGEOGCRS["GCS_NAD_1983_2011",DATUM["D_NAD_1983_2011",ELLIPSOID["GRS_1980",6378137.0,298.257222101],ANCHOREPOCH[2010.0]],PRIMEM["Greenwich",0.0],CS[ellipsoidal,2],AXIS["Latitude (lat)",north,ORDER[1]],AXIS["Longitude (lon)",east,ORDER[2]],ANGLEUNIT["Degree",0.0174532925199433]],CONVERSION["Transverse_Mercator",METHOD["Transverse_Mercator"],PARAMETER["False_Easting",656166.6666666665,LENGTHUNIT["Foot_US",0.3048006096012192]],PARAMETER["False_Northing",0.0,LENGTHUNIT["Foot_US",0.3048006096012192]],PARAMETER["Central_Meridian",-82.0],PARAMETER["Scale_Factor",0.9999411764705882],PARAMETER["Latitude_Of_Origin",24.33333333333333]],CS[Cartesian,2],AXIS["Easting (X)",east,ORDER[1]],AXIS["Northing (Y)",north,ORDER[2]],LENGTHUNIT["Foot_US",0.3048006096012192]],VERTCRS["NAVD88_height-Geoid12B(ftUS)",VDATUM["North_American_Vertical_Datum_1988"],CS[vertical,1],AXIS["Gravity-related height (H)",up,LENGTHUNIT["Foot_US",0.3048006096012192]]]]
Initial Extent:
XMin: 404999.99999999977
YMin: 1574999.9999999977
XMax: 594999.9999999998
YMax: 1714999.9999999977
Spatial Reference: COMPOUNDCRS["",PROJCRS["NAD_1983_2011_StatePlane_Florida_West_FIPS_0902_Ft_US",BASEGEOGCRS["GCS_NAD_1983_2011",DATUM["D_NAD_1983_2011",ELLIPSOID["GRS_1980",6378137.0,298.257222101],ANCHOREPOCH[2010.0]],PRIMEM["Greenwich",0.0],CS[ellipsoidal,2],AXIS["Latitude (lat)",north,ORDER[1]],AXIS["Longitude (lon)",east,ORDER[2]],ANGLEUNIT["Degree",0.0174532925199433]],CONVERSION["Transverse_Mercator",METHOD["Transverse_Mercator"],PARAMETER["False_Easting",656166.6666666665,LENGTHUNIT["Foot_US",0.3048006096012192]],PARAMETER["False_Northing",0.0,LENGTHUNIT["Foot_US",0.3048006096012192]],PARAMETER["Central_Meridian",-82.0],PARAMETER["Scale_Factor",0.9999411764705882],PARAMETER["Latitude_Of_Origin",24.33333333333333]],CS[Cartesian,2],AXIS["Easting (X)",east,ORDER[1]],AXIS["Northing (Y)",north,ORDER[2]],LENGTHUNIT["Foot_US",0.3048006096012192]],VERTCRS["NAVD88_height-Geoid12B(ftUS)",VDATUM["North_American_Vertical_Datum_1988"],CS[vertical,1],AXIS["Gravity-related height (H)",up,LENGTHUNIT["Foot_US",0.3048006096012192]]]]
Full Extent:
XMin: 404999.99999999977
YMin: 1574999.9999999977
XMax: 594999.9999999998
YMax: 1714999.9999999977
Spatial Reference: COMPOUNDCRS["",PROJCRS["NAD_1983_2011_StatePlane_Florida_West_FIPS_0902_Ft_US",BASEGEOGCRS["GCS_NAD_1983_2011",DATUM["D_NAD_1983_2011",ELLIPSOID["GRS_1980",6378137.0,298.257222101],ANCHOREPOCH[2010.0]],PRIMEM["Greenwich",0.0],CS[ellipsoidal,2],AXIS["Latitude (lat)",north,ORDER[1]],AXIS["Longitude (lon)",east,ORDER[2]],ANGLEUNIT["Degree",0.0174532925199433]],CONVERSION["Transverse_Mercator",METHOD["Transverse_Mercator"],PARAMETER["False_Easting",656166.6666666665,LENGTHUNIT["Foot_US",0.3048006096012192]],PARAMETER["False_Northing",0.0,LENGTHUNIT["Foot_US",0.3048006096012192]],PARAMETER["Central_Meridian",-82.0],PARAMETER["Scale_Factor",0.9999411764705882],PARAMETER["Latitude_Of_Origin",24.33333333333333]],CS[Cartesian,2],AXIS["Easting (X)",east,ORDER[1]],AXIS["Northing (Y)",north,ORDER[2]],LENGTHUNIT["Foot_US",0.3048006096012192]],VERTCRS["NAVD88_height-Geoid12B(ftUS)",VDATUM["North_American_Vertical_Datum_1988"],CS[vertical,1],AXIS["Gravity-related height (H)",up,LENGTHUNIT["Foot_US",0.3048006096012192]]]]
Pixel Size X: 2.5
Pixel Size Y: 2.5
Band Count: 1
Pixel Type: F32
RasterFunction Infos: {"rasterFunctionInfos": [{
"help": "",
"name": "None",
"description": ""
}]}
Mensuration Capabilities: Basic
Inspection Capabilities:
Has Histograms: true
Has Colormap: false
Has Multi Dimensions : false
Rendering Rule:
Min Scale: 0
Max Scale: 0
Copyright Text:
Service Data Type: esriImageServiceDataTypeGeneric
Min Values: -3.4014058113097998
Max Values: 245.44999694824
Mean Values: 44.950839512209001
Standard Deviation Values: 40.783531741093
Object ID Field:
Fields:
None
Default Mosaic Method: Center
Allowed Mosaic Methods:
SortField:
SortValue: N/A
Mosaic Operator: First
Default Compression Quality: 75
Default Resampling Method: Bilinear
Max Record Count: null
Max Image Height: 4100
Max Image Width: 15000
Max Download Image Count: null
Max Mosaic Image Count: null
Allow Raster Function: true
Allow Copy: true
Allow Analysis: true
Allow Compute TiePoints: false
Supports Statistics: false
Supports Advanced Queries: false
Use StandardizedQueries: false
Raster Type Infos:
Name: Raster Dataset
Description: Supports all ArcGIS Raster Datasets
Help:
Has Raster Attribute Table: false
Edit Fields Info: N/A
Ownership Based AccessControl For Rasters: N/A
Child Resources:
Info
Histograms
Statistics
Key Properties
Legend
Raster Function Infos
Supported Operations:
Export Image
Identify
Measure
Compute Histograms
Compute Statistics Histograms
Get Samples
Compute Class Statistics
Query Boundary
Compute Pixel Location
Compute Angles
Validate
Project